BEGIN:VCALENDAR
VERSION:2.0
PRODID:icalendar-ruby
CALSCALE:GREGORIAN
METHOD:PUBLISH
BEGIN:VEVENT
DTSTAMP:20260423T030733Z
UID:144-1539121@fccwarsaw.com
DTSTART:20260510T150000Z
DTEND:20260510T210000Z
CLASS:PUBLIC
CREATED:20260422T162329
DESCRIPTION:
LAST-MODIFIED:20260422T162329
LOCATION:Glenbrook Mall
SUMMARY:Mall Derby
URL;VALUE=URI:https://fccwarsaw.com/events/mall-derby--144/2026-05-10
ATTACH;FILENAME=Fort-Wayne-Mall-Derby-2.png;FMTTYPE=image/png:https://dq5pw
 pg1q8ru0.cloudfront.net/2026/04/22/20/23/29/082227c0-bf88-4c5b-975e-338a9a
 3d68e8/Fort-Wayne-Mall-Derby-2.png
END:VEVENT
END:VCALENDAR
