BEGIN:VCALENDAR
VERSION:2.0
PRODID:icalendar-ruby
CALSCALE:GREGORIAN
METHOD:PUBLISH
BEGIN:VEVENT
DTSTAMP:20260423T035146Z
UID:143-1539120@fccwarsaw.com
DTSTART:20260430T223000Z
DTEND:20260501T003000Z
CLASS:PUBLIC
CREATED:20260422T162135
DESCRIPTION:
LAST-MODIFIED:20260422T162135
LOCATION:
SUMMARY:Girls Night
URL;VALUE=URI:https://fccwarsaw.com/events/girls-night/2026-04-30
ATTACH;FILENAME=FCC-S-Bracelet-making-night.png;FMTTYPE=image/png:https://d
 q5pwpg1q8ru0.cloudfront.net/2026/04/22/20/21/35/7e2dd210-bb73-4b4a-88d4-dc
 da37dd7274/FCC-S-Bracelet-making-night.png
END:VEVENT
END:VCALENDAR
