BEGIN:VCALENDAR
VERSION:2.0
PRODID:icalendar-ruby
CALSCALE:GREGORIAN
METHOD:PUBLISH
BEGIN:VEVENT
DTSTAMP:20260423T034333Z
UID:91-1512353@fccwarsaw.com
DTSTART:20260503T160000Z
DTEND:20260503T170000Z
CLASS:PUBLIC
CREATED:20260416T150727
DESCRIPTION:First Step is the perfect way to start connections here at Firs
 t Christian Church!\nJoin us over a free lunch\, with Lead Minister\, Matt
 hew Rogers\, as we learn about FCC's history\, vision\, and getting connec
 ted. \nThe next First Step Class is Sunday\, May 3\, 2026 from 12:00pm - 
 1:00pm at First Christian Church\, Warsaw\, IN.\nLunch and Childcare are p
 rovided for First Step! When you sign up\, please let us know of any aller
 gies and how many children will be attending.\nFor questions about this cl
 ass please contact Kyla Zastrow at: kyla@fccwarsaw.com OR call the church 
 office at 574-267-8952.\nSign up online or at the Welcome Desk.\nhttps://f
 irstchristianchurch.breezechms.com/form/5904315484
LAST-MODIFIED:20260416T150727
LOCATION:First Christian Church\, Youth Room
SUMMARY:First Step
URL;VALUE=URI:https://fccwarsaw.com/events/first-step--91/2026-05-03
ATTACH;FILENAME=may.png;FMTTYPE=image/png:https://dq5pwpg1q8ru0.cloudfront.
 net/2026/04/16/19/07/27/7bb89cb0-0f55-4df1-a52b-ad9bdccc52b2/may.png
END:VEVENT
END:VCALENDAR
