BEGIN:VCALENDAR
VERSION:2.0
PRODID:icalendar-ruby
CALSCALE:GREGORIAN
METHOD:PUBLISH
BEGIN:VEVENT
DTSTAMP:20260425T172811Z
UID:16-1552331@fccwarsaw.com
DTSTART:20260930T170000Z
DTEND:20260930T183000Z
CLASS:PUBLIC
CREATED:20260425T131934
DESCRIPTION:Get in the Word with other adults each week! Led by Chris Hopki
 ns
LAST-MODIFIED:20260425T131934
LOCATION:First Christian Church Room 126
SUMMARY:Adult Bible Study
URL;VALUE=URI:https://fccwarsaw.com/events/adult-bible-study/2026-09-30
ATTACH;FILENAME=FsonA.jpg;FMTTYPE=image/jpeg:https://dq5pwpg1q8ru0.cloudfro
 nt.net/2024/02/21/16/29/09/a3a8c6f0-705f-42e9-9fcd-adc68565575e/FsonA.jpg
END:VEVENT
END:VCALENDAR
